BEGIN:VCALENDAR
VERSION:2.0
PRODID:-//Silver Dollar Court, Inc. of Reno - ECPv6.15.20//NONSGML v1.0//EN
CALSCALE:GREGORIAN
METHOD:PUBLISH
X-ORIGINAL-URL:https://renosdc.org
X-WR-CALDESC:Events for Silver Dollar Court, Inc. of Reno
REFRESH-INTERVAL;VALUE=DURATION:PT1H
X-Robots-Tag:noindex
X-PUBLISHED-TTL:PT1H
BEGIN:VTIMEZONE
TZID:UTC
BEGIN:STANDARD
TZOFFSETFROM:+0000
TZOFFSETTO:+0000
TZNAME:UTC
DTSTART:20250101T000000
END:STANDARD
END:VTIMEZONE
BEGIN:VEVENT
DTSTART;TZID=UTC:20260605T200000
DTEND;TZID=UTC:20260605T220000
DTSTAMP:20260419T140523
CREATED:20250302T022711Z
LAST-MODIFIED:20260415T002533Z
UID:3637-1780689600-1780696800@renosdc.org
SUMMARY:Out of Town Show
DESCRIPTION:
URL:https://renosdc.org/event/out-of-town-show-3
LOCATION:OTC\, 340 Kietzke Ln\, Reno\, NV\, 89502\, United States
CATEGORIES:2025-2026,Coronation 2026
END:VEVENT
BEGIN:VEVENT
DTSTART;TZID=UTC:20260605T200000
DTEND;TZID=UTC:20260605T233000
DTSTAMP:20260419T140523
CREATED:20250302T022956Z
LAST-MODIFIED:20260415T002506Z
UID:3639-1780689600-1780702200@renosdc.org
SUMMARY:San Francisco Party
DESCRIPTION:
URL:https://renosdc.org/event/san-francisco-party
LOCATION:OTC\, 340 Kietzke Ln\, Reno\, NV\, 89502\, United States
CATEGORIES:2025-2026,Coronation 2026
END:VEVENT
END:VCALENDAR