BEGIN:VCALENDAR
VERSION:2.0
PRODID:-//Silver Dollar Court, Inc. of Reno - ECPv6.15.20//NONSGML v1.0//EN
CALSCALE:GREGORIAN
METHOD:PUBLISH
X-ORIGINAL-URL:https://renosdc.org
X-WR-CALDESC:Events for Silver Dollar Court, Inc. of Reno
REFRESH-INTERVAL;VALUE=DURATION:PT1H
X-Robots-Tag:noindex
X-PUBLISHED-TTL:PT1H
BEGIN:VTIMEZONE
TZID:UTC
BEGIN:STANDARD
TZOFFSETFROM:+0000
TZOFFSETTO:+0000
TZNAME:UTC
DTSTART:20250101T000000
END:STANDARD
END:VTIMEZONE
BEGIN:VEVENT
DTSTART;TZID=UTC:20260602T100000
DTEND;TZID=UTC:20260602T190000
DTSTAMP:20260422T090330
CREATED:20260415T003430Z
LAST-MODIFIED:20260422T013827Z
UID:3861-1780394400-1780426800@renosdc.org
SUMMARY:VOTING DAY
DESCRIPTION:Please see current P&P for full Details \nIdentification for Voting \nIn order to vote in an election a voter must submit the following to the voting booth monitor: \n\nProof\, in the form of official certification that the voter is eighteen (18) or older\nProof of current residency in territory of the Silver Dollar Court\, as follows:\n\n\na) Current Nevada or California driver’s license with address in the territory of the empire\, police card\, passport\, recent pay stub\, rent receipt\, power bill or telephone bill with the voter as the customer. Use of receipts or pay stubs must not be more than one month old as of the day of the election.\n\nCommunity Members at Large \n\n\n\nMembership in the Silver Dollar Court\, shall not be limited and is open to all interested persons in the community. And living within the territory of the Silver Dollar Court. Honorary membership may be conferred upon persons outside of the territory of the Silver Dollar Court\, Inc. but such members shall not have voting rights\, which require residency in the territory of the Silver Dollar Court\, Inc.\, as described herein above.\n\n\n\nAbsentee Voting \n\n\n\nAbsentee voting shall be used when an individual is unable to physically make it to the voting polls due to being out of town\, hospitalization\, for health reasons or at the discretion of the Board of Trustees. The absentee voter will write their voting choice(s) on a piece of paper along with a photocopy of proof of residency as outlined in Article VI\, Section D above\, placed into an envelope\, and sealed. The voter is to sign their name on the envelope\, with the envelope then given to or mailed to the President of the Board of Trustees at least one week before voting is to take place or at the discretion of the Executive Committee. This envelope is to then be placed into the locked ballot box and after voting\, this envelope should be given to the Secretary of the Board as part of the voting\n\n\n\nBallots \n\n\n\n\n\nNo “write in” candidates are allowed and if there is a “write in” then the ballot is void.\nThe ballot for the election of the Imperials shall list the candidates for each position and include an option for a vote for “none of the above.”\nAll candidates running unopposed shall run on a yes-no vote and must receive a simple majority of the votes and in the event of a “no” vote majority\, the Board of Trustees shall appoint a Regent\, if necessary\, at the next scheduled Board\nAll candidates running for the board shall run on a yes –no vote and must receive a simple majority of the votes.
URL:https://renosdc.org/event/voting-day
LOCATION:Our Center\, 1755 S Wells Ave\, Reno\, 89502\, United States
CATEGORIES:2025-2026
END:VEVENT
BEGIN:VEVENT
DTSTART;TZID=UTC:20260603T163000
DTEND;TZID=UTC:20260603T180000
DTSTAMP:20260422T090330
CREATED:20250302T022421Z
LAST-MODIFIED:20260415T002559Z
UID:3633-1780504200-1780509600@renosdc.org
SUMMARY:In Town BBQ
DESCRIPTION:
URL:https://renosdc.org/event/in-town-bbq
LOCATION:Carl’s – The Saloon\, 3310 S Virginia St\, Reno\, NV\, 89502\, United States
CATEGORIES:2025-2026,Coronation 2026
END:VEVENT
BEGIN:VEVENT
DTSTART;TZID=UTC:20260604T160000
DTEND;TZID=UTC:20260604T190000
DTSTAMP:20260422T090330
CREATED:20260415T003534Z
LAST-MODIFIED:20260415T003534Z
UID:3863-1780588800-1780599600@renosdc.org
SUMMARY:Monarchs Receitpion
DESCRIPTION:
URL:https://renosdc.org/event/monarchs-receitpion
LOCATION:OTC\, 340 Kietzke Ln\, Reno\, NV\, 89502\, United States
CATEGORIES:2025-2026,Coronation 2026
END:VEVENT
BEGIN:VEVENT
DTSTART;TZID=UTC:20260605T200000
DTEND;TZID=UTC:20260605T220000
DTSTAMP:20260422T090330
CREATED:20250302T022711Z
LAST-MODIFIED:20260415T002533Z
UID:3637-1780689600-1780696800@renosdc.org
SUMMARY:Out of Town Show
DESCRIPTION:
URL:https://renosdc.org/event/out-of-town-show-3
LOCATION:OTC\, 340 Kietzke Ln\, Reno\, NV\, 89502\, United States
CATEGORIES:2025-2026,Coronation 2026
END:VEVENT
BEGIN:VEVENT
DTSTART;TZID=UTC:20260605T200000
DTEND;TZID=UTC:20260605T233000
DTSTAMP:20260422T090330
CREATED:20250302T022956Z
LAST-MODIFIED:20260415T002506Z
UID:3639-1780689600-1780702200@renosdc.org
SUMMARY:San Francisco Party
DESCRIPTION:
URL:https://renosdc.org/event/san-francisco-party
LOCATION:OTC\, 340 Kietzke Ln\, Reno\, NV\, 89502\, United States
CATEGORIES:2025-2026,Coronation 2026
END:VEVENT
BEGIN:VEVENT
DTSTART;TZID=UTC:20260606T060000
DTEND;TZID=UTC:20260606T170000
DTSTAMP:20260422T090330
CREATED:20260415T001759Z
LAST-MODIFIED:20260415T002245Z
UID:3845-1780725600-1780765200@renosdc.org
SUMMARY:Coronation 2026
DESCRIPTION:
URL:https://renosdc.org/event/coronation-2026
LOCATION:The Nugget\, 1100 Nugget Ave\, Sparks\, NV\, 89431\, United States
CATEGORIES:Coronation 2026
END:VEVENT
BEGIN:VEVENT
DTSTART;TZID=UTC:20260606T100000
DTEND;TZID=UTC:20260606T140000
DTSTAMP:20260422T090330
CREATED:20260415T003616Z
LAST-MODIFIED:20260415T003616Z
UID:3865-1780740000-1780754400@renosdc.org
SUMMARY:Hospitality
DESCRIPTION:
URL:https://renosdc.org/event/hospitality-3
LOCATION:The Nugget\, 1100 Nugget Ave\, Sparks\, NV\, 89431\, United States
CATEGORIES:2025-2026,Coronation 2026
END:VEVENT
BEGIN:VEVENT
DTSTART;TZID=UTC:20260606T120000
DTEND;TZID=UTC:20260606T140000
DTSTAMP:20260422T090330
CREATED:20260415T003649Z
LAST-MODIFIED:20260415T003649Z
UID:3867-1780747200-1780754400@renosdc.org
SUMMARY:Protocal
DESCRIPTION:
URL:https://renosdc.org/event/protocal
LOCATION:The Nugget\, 1100 Nugget Ave\, Sparks\, NV\, 89431\, United States
CATEGORIES:2025-2026,Coronation 2026
END:VEVENT
BEGIN:VEVENT
DTSTART;TZID=UTC:20260607T100000
DTEND;TZID=UTC:20260607T120000
DTSTAMP:20260422T090330
CREATED:20250302T023126Z
LAST-MODIFIED:20260415T002401Z
UID:3642-1780826400-1780833600@renosdc.org
SUMMARY:Victory Brunch
DESCRIPTION:
URL:https://renosdc.org/event/victory-brunch-3
LOCATION:The Nugget\, 1100 Nugget Ave\, Sparks\, NV\, 89431\, United States
CATEGORIES:2025-2026,Coronation 2026
END:VEVENT
BEGIN:VEVENT
DTSTART;TZID=UTC:20260607T140000
DTEND;TZID=UTC:20260607T170000
DTSTAMP:20260422T090330
CREATED:20250302T023518Z
LAST-MODIFIED:20260415T002432Z
UID:3644-1780840800-1780851600@renosdc.org
SUMMARY:Vegas Dam Water Party
DESCRIPTION:
URL:https://renosdc.org/event/vegas-dam-water-party
LOCATION:5 Star Saloon\, 132 West St\, Reno\, NV\, 89501\, United States
CATEGORIES:2025-2026,Coronation 2026
END:VEVENT
END:VCALENDAR