BEGIN:VCALENDAR
VERSION:2.0
PRODID:-//Silver Dollar Court, Inc. of Reno - ECPv6.15.20//NONSGML v1.0//EN
CALSCALE:GREGORIAN
METHOD:PUBLISH
X-WR-CALNAME:Silver Dollar Court, Inc. of Reno
X-ORIGINAL-URL:https://renosdc.org
X-WR-CALDESC:Events for Silver Dollar Court, Inc. of Reno
REFRESH-INTERVAL;VALUE=DURATION:PT1H
X-Robots-Tag:noindex
X-PUBLISHED-TTL:PT1H
BEGIN:VTIMEZONE
TZID:UTC
BEGIN:STANDARD
TZOFFSETFROM:+0000
TZOFFSETTO:+0000
TZNAME:UTC
DTSTART:20220101T000000
END:STANDARD
END:VTIMEZONE
BEGIN:VTIMEZONE
TZID:America/Los_Angeles
BEGIN:DAYLIGHT
TZOFFSETFROM:-0800
TZOFFSETTO:-0700
TZNAME:PDT
DTSTART:20220313T100000
END:DAYLIGHT
BEGIN:STANDARD
TZOFFSETFROM:-0700
TZOFFSETTO:-0800
TZNAME:PST
DTSTART:20221106T090000
END:STANDARD
BEGIN:DAYLIGHT
TZOFFSETFROM:-0800
TZOFFSETTO:-0700
TZNAME:PDT
DTSTART:20230312T100000
END:DAYLIGHT
BEGIN:STANDARD
TZOFFSETFROM:-0700
TZOFFSETTO:-0800
TZNAME:PST
DTSTART:20231105T090000
END:STANDARD
BEGIN:DAYLIGHT
TZOFFSETFROM:-0800
TZOFFSETTO:-0700
TZNAME:PDT
DTSTART:20240310T100000
END:DAYLIGHT
BEGIN:STANDARD
TZOFFSETFROM:-0700
TZOFFSETTO:-0800
TZNAME:PST
DTSTART:20241103T090000
END:STANDARD
BEGIN:DAYLIGHT
TZOFFSETFROM:-0800
TZOFFSETTO:-0700
TZNAME:PDT
DTSTART:20250309T100000
END:DAYLIGHT
BEGIN:STANDARD
TZOFFSETFROM:-0700
TZOFFSETTO:-0800
TZNAME:PST
DTSTART:20251102T090000
END:STANDARD
END:VTIMEZONE
BEGIN:VEVENT
DTSTART;TZID=UTC:20240502T183000
DTEND;TZID=UTC:20240502T193000
DTSTAMP:20260422T180437
CREATED:20240103T165715Z
LAST-MODIFIED:20240103T165715Z
UID:3381-1714674600-1714678200@renosdc.org
SUMMARY:May Board Meeting - 2024
DESCRIPTION:The Silver Dollar Court\, Inc.’s Board of Trustees meets the first Thursday of each month\nThis is a monthly board meeting of the Silver Dollar Court\, Inc. \nThis meeting is open to the public. We hope to see you there! \nPlease check our Facebook page for any last-minute changes. \nhttps://www.facebook.com/silverdollarcourt/
URL:https://renosdc.org/event/may-board-meeting-2024
LOCATION:Our Center\, 1755 S Wells Ave\, Reno\, 89502\, United States
CATEGORIES:2023-2024,Board Meetings 23-24
END:VEVENT
BEGIN:VEVENT
DTSTART;TZID=UTC:20240404T183000
DTEND;TZID=UTC:20240404T193000
DTSTAMP:20260422T180437
CREATED:20240103T165547Z
LAST-MODIFIED:20240103T165547Z
UID:3379-1712255400-1712259000@renosdc.org
SUMMARY:April Board Meeting - 2024
DESCRIPTION:The Silver Dollar Court\, Inc.’s Board of Trustees meets the first Thursday of each month\nThis is a monthly board meeting of the Silver Dollar Court\, Inc. \nThis meeting is open to the public. We hope to see you there! \nPlease check our Facebook page for any last-minute changes. \nhttps://www.facebook.com/silverdollarcourt/
URL:https://renosdc.org/event/april-board-meeting-2024
LOCATION:Our Center\, 1755 S Wells Ave\, Reno\, 89502\, United States
CATEGORIES:2023-2024,Board Meetings 23-24
END:VEVENT
BEGIN:VEVENT
DTSTART;TZID=America/Los_Angeles:20240309T190000
DTEND;TZID=America/Los_Angeles:20240310T000000
DTSTAMP:20260422T180437
CREATED:20240130T204049Z
LAST-MODIFIED:20240201T192642Z
UID:3415-1710010800-1710028800@renosdc.org
SUMMARY:Closet Ball 2024 @ Virginia Street Brewhouse
DESCRIPTION:Saturday\, March 9th\, 2024\nCloset Ball @ Virginia Street Brewhouse\nDoors at 7 pm with Contest & Show at 8 pm\n\n$10 Door Cover\n\n*Drag performances during the contest\n*Applications and Application Fee of $25 taken until 7:30 pm night of the show\n*Performers added up until 7:30 pm night of the show\n\nApplications or inquiries\, please email protocol@renosdc.org or click HERE to download and print.\n\nHosted by Chelsea Towers-Jar & The Silver Dollar Court
URL:https://renosdc.org/event/closetball2024
LOCATION:Virginia Street Brewhouse\, 211 N Virginia St\, Reno\, NV\, 89501\, United States
CATEGORIES:2023-2024,Closet Ball 2024,Coronation 2024
ATTACH;FMTTYPE=image/jpeg:https://renosdc.org/wp-content/uploads/2024/01/closetballparticpate1a.jpg
END:VEVENT
BEGIN:VEVENT
DTSTART;TZID=UTC:20240307T183000
DTEND;TZID=UTC:20240307T193000
DTSTAMP:20260422T180437
CREATED:20240103T165444Z
LAST-MODIFIED:20240103T165444Z
UID:3377-1709836200-1709839800@renosdc.org
SUMMARY:March Board Meeting - 2024
DESCRIPTION:The Silver Dollar Court\, Inc.’s Board of Trustees meets the first Thursday of each month\nThis is a monthly board meeting of the Silver Dollar Court\, Inc. \nThis meeting is open to the public. We hope to see you there! \nPlease check our Facebook page for any last-minute changes. \nhttps://www.facebook.com/silverdollarcourt/
URL:https://renosdc.org/event/march-board-meeting-2024
LOCATION:Our Center\, 1755 S Wells Ave\, Reno\, 89502\, United States
CATEGORIES:2023-2024,Board Meetings 23-24
END:VEVENT
BEGIN:VEVENT
DTSTART;TZID=America/Los_Angeles:20240210T200000
DTEND;TZID=America/Los_Angeles:20240211T000000
DTSTAMP:20260422T180437
CREATED:20240201T192610Z
LAST-MODIFIED:20240201T192610Z
UID:3427-1707595200-1707609600@renosdc.org
SUMMARY:Masquerade - Adult Prom @ Virginia Street Brewhouse
DESCRIPTION:Saturday\, February 10th\, 2024\nMasquerade – Adult Prom @ Virginia Street Brewhouse\nDoors at 8 pm – Tickets $30\n\n\n*Drag performances\n*Food Provided\n\nHosted by Imperial Crown Princess Athena Marie & The Silver Dollar Court
URL:https://renosdc.org/event/masquerade2024
LOCATION:Virginia Street Brewhouse\, 211 N Virginia St\, Reno\, NV\, 89501\, United States
CATEGORIES:2023-2024,Coronation 2024
ATTACH;FMTTYPE=image/jpeg:https://renosdc.org/wp-content/uploads/2024/02/2024-02-10-Masquerade-Adult-Prom.jpg
END:VEVENT
BEGIN:VEVENT
DTSTART;TZID=UTC:20240201T183000
DTEND;TZID=UTC:20240201T193000
DTSTAMP:20260422T180437
CREATED:20231207T214338Z
LAST-MODIFIED:20231207T214338Z
UID:3359-1706812200-1706815800@renosdc.org
SUMMARY:February Board Meeting - 2024
DESCRIPTION:The Silver Dollar Court\, Inc.’s Board of Trustees meets the first Thursday of each month\nThis is a monthly board meeting of the Silver Dollar Court\, Inc. \nThis meeting is open to the public. We hope to see you there! \nPlease check our Facebook page for any last-minute changes. \nhttps://www.facebook.com/silverdollarcourt/
URL:https://renosdc.org/event/february-board-meeting-2024
LOCATION:Our Center\, 1755 S Wells Ave\, Reno\, 89502\, United States
CATEGORIES:2023-2024,Board Meetings 23-24
END:VEVENT
BEGIN:VEVENT
DTSTART;TZID=UTC:20240127T193000
DTEND;TZID=UTC:20240127T235900
DTSTAMP:20260422T180437
CREATED:20240103T171007Z
LAST-MODIFIED:20240124T174234Z
UID:3383-1706383800-1706399940@renosdc.org
SUMMARY:Burlesque Meets Drag Charity Show @ Polo Lounge
DESCRIPTION:January 27th\, 2024\, at Polo Lounge – 1559 S Virginia St\, Reno\, NV 89502 – 775-322-8864 – thepoloreno.com \nDoors open at 7:30 pm with Show at 8pm – $10 Donation – Must be 21+
URL:https://renosdc.org/event/empressbirthdaycelebration-2024
LOCATION:Polo Lounge\, 1559 S Virginia St\, Reno\, 89502\, United States
CATEGORIES:2023-2024,Coronation 2024
ATTACH;FMTTYPE=image/png:https://renosdc.org/wp-content/uploads/2024/01/2024-01-27-Burlesque-Meets-Drag-Charity-Show.png
END:VEVENT
BEGIN:VEVENT
DTSTART;TZID=UTC:20240104T183000
DTEND;TZID=UTC:20240104T193000
DTSTAMP:20260422T180437
CREATED:20231207T214147Z
LAST-MODIFIED:20231207T214510Z
UID:3357-1704393000-1704396600@renosdc.org
SUMMARY:January Board Meeting - 2024
DESCRIPTION:The Silver Dollar Court\, Inc.’s Board of Trustees meets the first Thursday of each month\nThis is a monthly board meeting of the Silver Dollar Court\, Inc. \nThis meeting is open to the public. We hope to see you there! \nPlease check our Facebook page for any last-minute changes. \nhttps://www.facebook.com/silverdollarcourt/
URL:https://renosdc.org/event/january-board-meeting-2024
LOCATION:Our Center\, 1755 S Wells Ave\, Reno\, 89502\, United States
CATEGORIES:2023-2024,Board Meetings 23-24
END:VEVENT
BEGIN:VEVENT
DTSTART;TZID=UTC:20231224T100000
DTEND;TZID=UTC:20231224T120000
DTSTAMP:20260422T180437
CREATED:20231207T215535Z
LAST-MODIFIED:20231208T163337Z
UID:3366-1703412000-1703419200@renosdc.org
SUMMARY:Food Drive Distribution @ Carl's - The Saloon
DESCRIPTION:Please join us for our Northern Nevada Annual Food Drive Distribution\, December 24th\, 2023. Times are listed below.
URL:https://renosdc.org/event/fooddrivedistribution-2023
LOCATION:Carl’s – The Saloon\, 3310 S Virginia St\, Reno\, NV\, 89502\, United States
CATEGORIES:2023-2024,Coronation 2024
ATTACH;FMTTYPE=image/jpeg:https://renosdc.org/wp-content/uploads/2023/12/2023-11-11-Food-Drive-Poster.jpg
END:VEVENT
BEGIN:VEVENT
DTSTART;TZID=UTC:20231207T183000
DTEND;TZID=UTC:20231207T193000
DTSTAMP:20260422T180437
CREATED:20231207T214036Z
LAST-MODIFIED:20231207T214036Z
UID:3355-1701973800-1701977400@renosdc.org
SUMMARY:December Board Meeting - 2023
DESCRIPTION:The Silver Dollar Court\, Inc.’s Board of Trustees meets the first Thursday of each month\nThis is a monthly board meeting of the Silver Dollar Court\, Inc. \nThis meeting is open to the public. We hope to see you there! \nPlease check our Facebook page for any last-minute changes. \nhttps://www.facebook.com/silverdollarcourt/
URL:https://renosdc.org/event/december-board-meeting-2023
LOCATION:Our Center\, 1755 S Wells Ave\, Reno\, 89502\, United States
CATEGORIES:2023-2024,Board Meetings 23-24
END:VEVENT
BEGIN:VEVENT
DTSTART;TZID=America/Los_Angeles:20231118T200000
DTEND;TZID=America/Los_Angeles:20231119T000000
DTSTAMP:20260422T180437
CREATED:20231013T204208Z
LAST-MODIFIED:20231013T204208Z
UID:3326-1700337600-1700352000@renosdc.org
SUMMARY:The Empress Jack-E Gala @ Chapel Tavern
DESCRIPTION:Doors at 8pm Show at 9pm\n\nCome join us at our Empress Jack-E Gala show at the Chapel Tavern. Details on flyer with additional details to come.
URL:https://renosdc.org/event/empressjackegala-2023
LOCATION:Chapel Tavern\, 1099 South Virginai Street\, Reno\, 89502\, United States
CATEGORIES:2023-2024,Coronation 2024
ATTACH;FMTTYPE=image/jpeg:https://renosdc.org/wp-content/uploads/2023/10/2023-11-18-The-Empress-Jack-E-Gala.jpg
END:VEVENT
BEGIN:VEVENT
DTSTART;TZID=UTC:20231111T200000
DTEND;TZID=UTC:20231111T220000
DTSTAMP:20260422T180437
CREATED:20231207T215112Z
LAST-MODIFIED:20231207T215218Z
UID:3361-1699732800-1699740000@renosdc.org
SUMMARY:Food Drive Kickoff Show @ Carl's - The Saloon
DESCRIPTION:Please join us for our Northern Nevada Annual Food Drive Kickoff Show\, November 11th\, 2023. Times are listed below.
URL:https://renosdc.org/event/fooddrivekickoff-2023
LOCATION:Carl’s – The Saloon\, 3310 S Virginia St\, Reno\, NV\, 89502\, United States
CATEGORIES:2023-2024,Coronation 2024
ATTACH;FMTTYPE=image/jpeg:https://renosdc.org/wp-content/uploads/2023/12/2023-12-24-Food-Drive-Distrabution-Poster.jpg
END:VEVENT
BEGIN:VEVENT
DTSTART;TZID=UTC:20231102T183000
DTEND;TZID=UTC:20231102T193000
DTSTAMP:20260422T180437
CREATED:20231207T213929Z
LAST-MODIFIED:20231207T213929Z
UID:3353-1698949800-1698953400@renosdc.org
SUMMARY:November Board Meeting - 2023
DESCRIPTION:The Silver Dollar Court\, Inc.’s Board of Trustees meets the first Thursday of each month\nThis is a monthly board meeting of the Silver Dollar Court\, Inc. \nThis meeting is open to the public. We hope to see you there! \nPlease check our Facebook page for any last-minute changes. \nhttps://www.facebook.com/silverdollarcourt/
URL:https://renosdc.org/event/november-board-meeting-2023
LOCATION:Our Center\, 1755 S Wells Ave\, Reno\, 89502\, United States
CATEGORIES:2023-2024,Board Meetings 23-24
END:VEVENT
BEGIN:VEVENT
DTSTART;TZID=UTC:20231028T200000
DTEND;TZID=UTC:20231029T000000
DTSTAMP:20260422T180437
CREATED:20231013T202750Z
LAST-MODIFIED:20231013T202750Z
UID:3321-1698523200-1698537600@renosdc.org
SUMMARY:Halloween Party @ 5 Star Saloon
DESCRIPTION:Doors at 9pm Show at 10pm\n\nCome enjoy Silver Dollar Court Halloween Party show at 5 Star Saloon. Details on flyer
URL:https://renosdc.org/event/halloweenparty-2023
LOCATION:5 Star Saloon\, 132 West St\, Reno\, NV\, 89501\, United States
CATEGORIES:2023-2024,Coronation 2024
ATTACH;FMTTYPE=image/jpeg:https://renosdc.org/wp-content/uploads/2023/10/2023-10-28-Halloween-Party.jpg
END:VEVENT
BEGIN:VEVENT
DTSTART;TZID=UTC:20231005T183000
DTEND;TZID=UTC:20231005T193000
DTSTAMP:20260422T180437
CREATED:20230712T213444Z
LAST-MODIFIED:20230712T213610Z
UID:3282-1696530600-1696534200@renosdc.org
SUMMARY:October Board Meeting - 2023
DESCRIPTION:The Silver Dollar Court\, Inc.’s Board of Trustees meets the first Thursday of each month\nThis is a monthly board meeting of the Silver Dollar Court\, Inc. \nThis meeting is open to the public. We hope to see you there! \nPlease check our Facebook page for any last-minute changes. \nhttps://www.facebook.com/silverdollarcourt/
URL:https://renosdc.org/event/october-board-meeting-2023
LOCATION:Our Center\, 1755 S Wells Ave\, Reno\, 89502\, United States
CATEGORIES:2023-2024,Board Meetings 23-24
END:VEVENT
BEGIN:VEVENT
DTSTART;TZID=UTC:20231001T140000
DTEND;TZID=UTC:20231001T200000
DTSTAMP:20260422T180437
CREATED:20230830T171113Z
LAST-MODIFIED:20230927T214745Z
UID:3302-1696168800-1696190400@renosdc.org
SUMMARY:Beer Bust & BBQ @ Carl's - The Saloon
DESCRIPTION:Please join us for Beer Bust & BBQ on Sunday\, October 1st\, 2023. Times are listed below.
URL:https://renosdc.org/event/beerbustbbq2023
LOCATION:Carl’s – The Saloon\, 3310 S Virginia St\, Reno\, NV\, 89502\, United States
CATEGORIES:2023-2024,Coronation 2024
ATTACH;FMTTYPE=image/jpeg:https://renosdc.org/wp-content/uploads/2023/08/2023-10-01-Beer-Bust-and-BBQ-2.jpg
END:VEVENT
BEGIN:VEVENT
DTSTART;TZID=UTC:20230930T200000
DTEND;TZID=UTC:20231001T000000
DTSTAMP:20260422T180437
CREATED:20230927T215126Z
LAST-MODIFIED:20231013T203316Z
UID:3316-1696104000-1696118400@renosdc.org
SUMMARY:Silver Dollar Pageant @ 5 Star Saloon
DESCRIPTION:Doors at 8pm Show at 9pm\n\nCome enjoy Silver Dollar Pageant show at 5 Star Saloon. Details on flyer
URL:https://renosdc.org/event/silverdollarpageant-2023
LOCATION:5 Star Saloon\, 132 West St\, Reno\, NV\, 89501\, United States
CATEGORIES:2023-2024,Coronation 2024
ATTACH;FMTTYPE=image/jpeg:https://renosdc.org/wp-content/uploads/2023/08/2023-09-30-Silver-Dollar-Pageant.jpg
END:VEVENT
BEGIN:VEVENT
DTSTART;TZID=UTC:20230907T183000
DTEND;TZID=UTC:20230907T193000
DTSTAMP:20260422T180437
CREATED:20230712T213350Z
LAST-MODIFIED:20230712T213553Z
UID:3280-1694111400-1694115000@renosdc.org
SUMMARY:September Board Meeting - 2023
DESCRIPTION:The Silver Dollar Court\, Inc.’s Board of Trustees meets the first Thursday of each month\nThis is a monthly board meeting of the Silver Dollar Court\, Inc. \nThis meeting is open to the public. We hope to see you there! \nPlease check our Facebook page for any last-minute changes. \nhttps://www.facebook.com/silverdollarcourt/
URL:https://renosdc.org/event/september-board-meeting-2023
LOCATION:Our Center\, 1755 S Wells Ave\, Reno\, 89502\, United States
CATEGORIES:2023-2024,Board Meetings 23-24
END:VEVENT
BEGIN:VEVENT
DTSTART;TZID=UTC:20230826T190000
DTEND;TZID=UTC:20230827T000000
DTSTAMP:20260422T180437
CREATED:20230809T194422Z
LAST-MODIFIED:20230809T194422Z
UID:3292-1693076400-1693094400@renosdc.org
SUMMARY:The Vic Mini Closet Ball
DESCRIPTION:  \nCome and join us now and vote for Johnny\, Drew and Matty complete to be dressed in Drag to bartend for the evening (you can use the QR code on poster) then come out and join us at The Vic (address below) the night of August 26th to cheer them on in person.
URL:https://renosdc.org/event/thevic-miniclosetball-2023
LOCATION:Victorian Saloon\, 910 Victorian Ave\, Sparks\, NV\, 89431
CATEGORIES:2023-2024,Closet Ball 2024,Coronation 2024
ATTACH;FMTTYPE=image/jpeg:https://renosdc.org/wp-content/uploads/2023/08/2023-08-26-The-Vic-Mini-Closet-Ball-2.jpg
END:VEVENT
BEGIN:VEVENT
DTSTART;TZID=UTC:20230803T183000
DTEND;TZID=UTC:20230803T193000
DTSTAMP:20260422T180437
CREATED:20230712T213251Z
LAST-MODIFIED:20230712T213508Z
UID:3278-1691087400-1691091000@renosdc.org
SUMMARY:August Board Meeting - 2023
DESCRIPTION:The Silver Dollar Court\, Inc.’s Board of Trustees meets the first Thursday of each month\nThis is a monthly board meeting of the Silver Dollar Court\, Inc. \nThis meeting is open to the public. We hope to see you there! \nPlease check our Facebook page for any last-minute changes. \nhttps://www.facebook.com/silverdollarcourt/
URL:https://renosdc.org/event/august-board-meeting-2023
LOCATION:Our Center\, 1755 S Wells Ave\, Reno\, 89502\, United States
CATEGORIES:2023-2024,Board Meetings 23-24
END:VEVENT
BEGIN:VEVENT
DTSTART;TZID=UTC:20230708T180000
DTEND;TZID=UTC:20230708T200000
DTSTAMP:20260422T180437
CREATED:20230622T154537Z
LAST-MODIFIED:20230622T154537Z
UID:3260-1688839200-1688846400@renosdc.org
SUMMARY:Investitures @ Carl's - The Saloon
DESCRIPTION:Come out and join us for Investitures – Reign 48 @ Carl’s – The Saloon. Hope to see you there.
URL:https://renosdc.org/event/investitures2023
LOCATION:Carl’s – The Saloon\, 3310 S Virginia St\, Reno\, NV\, 89502\, United States
CATEGORIES:2023-2024,Coronation 2024
ATTACH;FMTTYPE=image/jpeg:https://renosdc.org/wp-content/uploads/2023/06/2023-07-08-Investitures.jpg
END:VEVENT
END:VCALENDAR