BEGIN:VCALENDAR
VERSION:2.0
PRODID:-//Silver Dollar Court, Inc. of Reno - ECPv6.15.20//NONSGML v1.0//EN
CALSCALE:GREGORIAN
METHOD:PUBLISH
X-WR-CALNAME:Silver Dollar Court, Inc. of Reno
X-ORIGINAL-URL:https://renosdc.org
X-WR-CALDESC:Events for Silver Dollar Court, Inc. of Reno
REFRESH-INTERVAL;VALUE=DURATION:PT1H
X-Robots-Tag:noindex
X-PUBLISHED-TTL:PT1H
BEGIN:VTIMEZONE
TZID:UTC
BEGIN:STANDARD
TZOFFSETFROM:+0000
TZOFFSETTO:+0000
TZNAME:UTC
DTSTART:20210101T000000
END:STANDARD
END:VTIMEZONE
BEGIN:VTIMEZONE
TZID:America/Los_Angeles
BEGIN:DAYLIGHT
TZOFFSETFROM:-0800
TZOFFSETTO:-0700
TZNAME:PDT
DTSTART:20220313T100000
END:DAYLIGHT
BEGIN:STANDARD
TZOFFSETFROM:-0700
TZOFFSETTO:-0800
TZNAME:PST
DTSTART:20221106T090000
END:STANDARD
BEGIN:DAYLIGHT
TZOFFSETFROM:-0800
TZOFFSETTO:-0700
TZNAME:PDT
DTSTART:20230312T100000
END:DAYLIGHT
BEGIN:STANDARD
TZOFFSETFROM:-0700
TZOFFSETTO:-0800
TZNAME:PST
DTSTART:20231105T090000
END:STANDARD
BEGIN:DAYLIGHT
TZOFFSETFROM:-0800
TZOFFSETTO:-0700
TZNAME:PDT
DTSTART:20240310T100000
END:DAYLIGHT
BEGIN:STANDARD
TZOFFSETFROM:-0700
TZOFFSETTO:-0800
TZNAME:PST
DTSTART:20241103T090000
END:STANDARD
END:VTIMEZONE
BEGIN:VEVENT
DTSTART;VALUE=DATE:20240608
DTEND;VALUE=DATE:20240610
DTSTAMP:20260420T132011
CREATED:20240124T174530Z
LAST-MODIFIED:20240124T175111Z
UID:3394-1717804800-1717977599@renosdc.org
SUMMARY:Coronation XLVIII - Save The Date @ The J Resort
DESCRIPTION: 
URL:https://renosdc.org/event/coronation-xlviii-2024
LOCATION:The J Resort\, 345 N Arlington Ave\, Reno\, 89501\, United States
CATEGORIES:2022-2023,Coronation 2023
ATTACH;FMTTYPE=image/png:https://renosdc.org/wp-content/uploads/2024/01/2024-06-08-Coronation-Save-the-Date.png
END:VEVENT
BEGIN:VEVENT
DTSTART;TZID=UTC:20230706T183000
DTEND;TZID=UTC:20230706T193000
DTSTAMP:20260420T132011
CREATED:20230609T183554Z
LAST-MODIFIED:20230609T183554Z
UID:3241-1688668200-1688671800@renosdc.org
SUMMARY:July Board Meeting
DESCRIPTION:The Silver Dollar Court\, Inc.’s Board of Trustees meets the first Thursday of each month\nThis is a monthly board meeting of the Silver Dollar Court\, Inc. \nThis meeting is open to the public. We hope to see you there! \nPlease check our Facebook page for any last-minute changes. \nhttps://www.facebook.com/silverdollarcourt/
URL:https://renosdc.org/event/july-board-meeting2023
LOCATION:Our Center\, 1755 S Wells Ave\, Reno\, 89502\, United States
CATEGORIES:2022-2023,Board Meeting
END:VEVENT
BEGIN:VEVENT
DTSTART;TZID=UTC:20230611T130000
DTEND;TZID=UTC:20230611T160000
DTSTAMP:20260420T132011
CREATED:20230609T183104Z
LAST-MODIFIED:20230609T183124Z
UID:3238-1686488400-1686499200@renosdc.org
SUMMARY:Las Vegas Dam Water Party 2023 @ Carl's - The Saloon
DESCRIPTION:Come enjoy the Las Vegas Dam Water Party to follow Victory Brunch on June 11th. Start and End times are an estimate.
URL:https://renosdc.org/event/lasvegasdamwaterparty2023
LOCATION:Carl’s – The Saloon\, 3310 S Virginia St\, Reno\, NV\, 89502\, United States
CATEGORIES:2022-2023,Coronation 2023
ATTACH;FMTTYPE=image/jpeg:https://renosdc.org/wp-content/uploads/2023/06/2023-06-11-Las-Vegas-Dam-Water-Party.jpg
END:VEVENT
BEGIN:VEVENT
DTSTART;TZID=UTC:20230611T103000
DTEND;TZID=UTC:20230611T130000
DTSTAMP:20260420T132011
CREATED:20230503T215548Z
LAST-MODIFIED:20230503T215548Z
UID:3195-1686479400-1686488400@renosdc.org
SUMMARY:Victory Brunch 2023
DESCRIPTION:  \n\nVictory Brunch\n\nVirginia Street Brewhouse\nDoors 10:30am Brunch 11am to 1pm\n$35
URL:https://renosdc.org/event/victory-brunch-2023
LOCATION:Virginia Street Brewhouse\, 211 N Virginia St\, Reno\, NV\, 89501\, United States
CATEGORIES:2022-2023,Coronation 2023
ATTACH;FMTTYPE=image/jpeg:https://renosdc.org/wp-content/uploads/2023/03/11-Victory-Brunch-scaled.jpg
END:VEVENT
BEGIN:VEVENT
DTSTART;TZID=UTC:20230610T175900
DTEND;TZID=UTC:20230611T000000
DTSTAMP:20260420T132011
CREATED:20230111T193532Z
LAST-MODIFIED:20230111T193557Z
UID:3052-1686419940-1686441600@renosdc.org
SUMMARY:Coronation XLVII
DESCRIPTION:More information to follow.
URL:https://renosdc.org/event/coronation-xlvii
LOCATION:Virginia Street Brewhouse\, 211 N Virginia St\, Reno\, NV\, 89501\, United States
CATEGORIES:2022-2023,Coronation 2023
ATTACH;FMTTYPE=image/jpeg:https://renosdc.org/wp-content/uploads/2023/01/2023-06-10-Coronation.jpg
END:VEVENT
BEGIN:VEVENT
DTSTART;TZID=UTC:20230610T120000
DTEND;TZID=UTC:20230610T140000
DTSTAMP:20260420T132011
CREATED:20230503T220334Z
LAST-MODIFIED:20230503T225218Z
UID:3199-1686398400-1686405600@renosdc.org
SUMMARY:Protocol 2023 @ Virginia Street Brewhouse
DESCRIPTION:Protocol Accepted In Person:\n\nLocation Virginia Street Brewhouse – Second Floor\n12pm – 2pm\n\n\nProtocol Accepted Electronically by June 5th\, 2023 before 5pm:\n\nprotocol@renosdc.org
URL:https://renosdc.org/event/protocol-2023
LOCATION:Virginia Street Brewhouse\, 211 N Virginia St\, Reno\, NV\, 89501\, United States
CATEGORIES:2022-2023,Coronation 2023
ATTACH;FMTTYPE=image/jpeg:https://renosdc.org/wp-content/uploads/2023/03/4-Protocol-Instructions-scaled.jpg
END:VEVENT
BEGIN:VEVENT
DTSTART;TZID=UTC:20230610T110000
DTEND;TZID=UTC:20230610T150000
DTSTAMP:20260420T132011
CREATED:20230503T215904Z
LAST-MODIFIED:20230503T225115Z
UID:3197-1686394800-1686409200@renosdc.org
SUMMARY:No Host Hospitality 2023 @ Virginia Street Brewhouse
DESCRIPTION:Hospitality\n\nLocation Virginia Street Brewhouse – Second Floor\n11am-3pm
URL:https://renosdc.org/event/hospitality-2023
LOCATION:Virginia Street Brewhouse\, 211 N Virginia St\, Reno\, NV\, 89501\, United States
CATEGORIES:2022-2023,Coronation 2023
ATTACH;FMTTYPE=image/jpeg:https://renosdc.org/wp-content/uploads/2023/03/9-Hospitality-Poster-scaled.jpg
END:VEVENT
BEGIN:VEVENT
DTSTART;TZID=UTC:20230609T210000
DTEND;TZID=UTC:20230609T230000
DTSTAMP:20260420T132011
CREATED:20230609T182453Z
LAST-MODIFIED:20230609T182453Z
UID:3234-1686344400-1686351600@renosdc.org
SUMMARY:San Francisco Party 2023 @ Carl's - The Saloon
DESCRIPTION:Come enjoy the San Francisco Party to follow the Out of Town Show at 5 Star on June 9th. Start and End times are an estimate.
URL:https://renosdc.org/event/sanfranciscoparty2023
LOCATION:Carl’s – The Saloon\, 3310 S Virginia St\, Reno\, NV\, 89502\, United States
CATEGORIES:2022-2023,Coronation 2023
ATTACH;FMTTYPE=image/jpeg:https://renosdc.org/wp-content/uploads/2023/06/2023-06-09-San-Francisco-Party.jpg
END:VEVENT
BEGIN:VEVENT
DTSTART;TZID=UTC:20230609T200000
DTEND;TZID=UTC:20230610T000000
DTSTAMP:20260420T132011
CREATED:20230503T214515Z
LAST-MODIFIED:20230503T225314Z
UID:3187-1686340800-1686355200@renosdc.org
SUMMARY:Out-of-Town Show 2023 @ 5 Star Saloon
DESCRIPTION:Doors at 8pm Show at 9pm\n\nCome enjoy Out of Town show at 5 Star Saloon.
URL:https://renosdc.org/event/out-of-town-show-2023
LOCATION:5 Star Saloon\, 132 West St\, Reno\, NV\, 89501\, United States
CATEGORIES:2022-2023,Coronation 2023
ATTACH;FMTTYPE=image/jpeg:https://renosdc.org/wp-content/uploads/2023/03/8-Out-Of-Town-Show-scaled.jpg
END:VEVENT
BEGIN:VEVENT
DTSTART;TZID=UTC:20230608T180000
DTEND;TZID=UTC:20230608T220000
DTSTAMP:20260420T132011
CREATED:20230503T215205Z
LAST-MODIFIED:20230609T182559Z
UID:3190-1686247200-1686261600@renosdc.org
SUMMARY:Monarch Reception 2023 @ Our Center
DESCRIPTION:
URL:https://renosdc.org/event/monarch-reception-2023
LOCATION:Our Center\, 1755 S Wells Ave\, Reno\, 89502\, United States
CATEGORIES:2022-2023,Coronation 2023
ATTACH;FMTTYPE=image/jpeg:https://renosdc.org/wp-content/uploads/2023/03/7-Monarch-Reception-scaled.jpg
END:VEVENT
BEGIN:VEVENT
DTSTART;TZID=UTC:20230607T180000
DTEND;TZID=UTC:20230607T210000
DTSTAMP:20260420T132011
CREATED:20230503T223522Z
LAST-MODIFIED:20230503T224626Z
UID:3201-1686160800-1686171600@renosdc.org
SUMMARY:In Town Show 2023 @ Carl's - The Saloon
DESCRIPTION:Doors at 6pm Show at 6:30pm\n\nCome enjoy the In Town Show\, Awards and BBQ at Carl’s – The Saloon.
URL:https://renosdc.org/event/in-town-show-2023
LOCATION:Carl’s – The Saloon\, 3310 S Virginia St\, Reno\, NV\, 89502\, United States
CATEGORIES:2022-2023,Coronation 2023
ATTACH;FMTTYPE=image/jpeg:https://renosdc.org/wp-content/uploads/2023/03/6-In-Town-Show-Poster-scaled.jpg
END:VEVENT
BEGIN:VEVENT
DTSTART;TZID=UTC:20230601T183000
DTEND;TZID=UTC:20230601T193000
DTSTAMP:20260420T132011
CREATED:20230503T213814Z
LAST-MODIFIED:20230503T213814Z
UID:3185-1685644200-1685647800@renosdc.org
SUMMARY:June Board Meeting
DESCRIPTION:The Silver Dollar Court\, Inc.’s Board of Trustees meets the first Thursday of each month\nThis is a monthly board meeting of the Silver Dollar Court\, Inc. \nThis meeting is open to the public. We hope to see you there! \nPlease check our Facebook page for any last-minute changes. \nhttps://www.facebook.com/silverdollarcourt/
URL:https://renosdc.org/event/june-board-meeting
LOCATION:Our Center\, 1755 S Wells Ave\, Reno\, 89502\, United States
CATEGORIES:2022-2023,Board Meeting
END:VEVENT
BEGIN:VEVENT
DTSTART;TZID=America/Los_Angeles:20230514T130000
DTEND;TZID=America/Los_Angeles:20230514T170000
DTSTAMP:20260420T132011
CREATED:20230503T224539Z
LAST-MODIFIED:20230503T224907Z
UID:3207-1684069200-1684083600@renosdc.org
SUMMARY:Monarch's Bingo @ Carl's the Saloon
DESCRIPTION:Sunday\, May 14th\, 2023\nMonarch’s Bingo @ Carl’s the Saloon\nBBQ at 1 pm with Bingo starting at 2 pm\n\n$5 for BBQ and $1/Card/Game
URL:https://renosdc.org/event/monarchsbingo-2023
LOCATION:Carl’s – The Saloon\, 3310 S Virginia St\, Reno\, NV\, 89502\, United States
CATEGORIES:2022-2023,Coronation 2023
ATTACH;FMTTYPE=image/jpeg:https://renosdc.org/wp-content/uploads/2023/05/2023-05-14-Monarchs-Bingo.jpg
END:VEVENT
BEGIN:VEVENT
DTSTART;TZID=America/Los_Angeles:20230513T200000
DTEND;TZID=America/Los_Angeles:20230514T000000
DTSTAMP:20260420T132011
CREATED:20230511T213357Z
LAST-MODIFIED:20230511T213357Z
UID:3227-1684008000-1684022400@renosdc.org
SUMMARY:Shania's Birthday Celebration @ 5 Star Saloon
DESCRIPTION:Saturday\, May 13th\, 2023\nDoor at 8pm. Show will start at 10pm.\n$5 donation.\n\n\nWe hope to see you there!
URL:https://renosdc.org/event/birthdaycelebration-2023
LOCATION:5 Star Saloon\, 132 West St\, Reno\, NV\, 89501\, United States
CATEGORIES:2022-2023,Coronation 2023
ATTACH;FMTTYPE=image/jpeg:https://renosdc.org/wp-content/uploads/2023/05/2023-05-12-Shanias-Birthday-Celebration.jpg
END:VEVENT
BEGIN:VEVENT
DTSTART;TZID=America/Los_Angeles:20230512T200000
DTEND;TZID=America/Los_Angeles:20230513T000000
DTSTAMP:20260420T132011
CREATED:20230503T224026Z
LAST-MODIFIED:20230503T224718Z
UID:3203-1683921600-1683936000@renosdc.org
SUMMARY:Monarch's Show @ 5 Star Saloon
DESCRIPTION:Friday\, May 12th\, 2023\nDoor at 8pm. Show will start at 9:30pm.\n$5 donation.\n\n\nWe hope to see you there!
URL:https://renosdc.org/event/monarchsshow-2023
LOCATION:5 Star Saloon\, 132 West St\, Reno\, NV\, 89501\, United States
CATEGORIES:2022-2023,Coronation 2023
ATTACH;FMTTYPE=image/jpeg:https://renosdc.org/wp-content/uploads/2023/05/2023-05-12-Monarchs-Show.jpg
END:VEVENT
BEGIN:VEVENT
DTSTART;TZID=America/Los_Angeles:20230506T200000
DTEND;TZID=America/Los_Angeles:20230507T000000
DTSTAMP:20260420T132011
CREATED:20230503T213600Z
LAST-MODIFIED:20230503T224753Z
UID:3180-1683403200-1683417600@renosdc.org
SUMMARY:Teacher's Pet @ 5 Star Saloon
DESCRIPTION:Saturday\, May 6th\, 2023\nDoor at 8pm. Show will start at 10pm.\n$5 donation.\n\n\nWe hope to see you there!
URL:https://renosdc.org/event/teacherspet2023
LOCATION:5 Star Saloon\, 132 West St\, Reno\, NV\, 89501\, United States
CATEGORIES:2022-2023,Coronation 2023
ATTACH;FMTTYPE=image/jpeg:https://renosdc.org/wp-content/uploads/2023/05/2023-05-06-Teachers-Pet-Event.jpg
END:VEVENT
BEGIN:VEVENT
DTSTART;TZID=UTC:20230504T183000
DTEND;TZID=UTC:20230504T193000
DTSTAMP:20260420T132011
CREATED:20230503T213707Z
LAST-MODIFIED:20230503T213707Z
UID:3183-1683225000-1683228600@renosdc.org
SUMMARY:May Board Meeting
DESCRIPTION:The Silver Dollar Court\, Inc.’s Board of Trustees meets the first Thursday of each month\nThis is a monthly board meeting of the Silver Dollar Court\, Inc. \nThis meeting is open to the public. We hope to see you there! \nPlease check our Facebook page for any last-minute changes. \nhttps://www.facebook.com/silverdollarcourt/
URL:https://renosdc.org/event/may-board-meeting
LOCATION:Our Center\, 1755 S Wells Ave\, Reno\, 89502\, United States
CATEGORIES:2022-2023,Board Meeting
END:VEVENT
BEGIN:VEVENT
DTSTART;TZID=America/Los_Angeles:20230408T200000
DTEND;TZID=America/Los_Angeles:20230409T000000
DTSTAMP:20260420T132011
CREATED:20230406T163124Z
LAST-MODIFIED:20230406T163124Z
UID:3166-1680984000-1680998400@renosdc.org
SUMMARY:The Bunny Ranch @ 5 Star Saloon
DESCRIPTION:Saturday\, April 8th\, come see The Bunny Ranch Show!\nShow will start at 9:30. $5 cover.\nThe door from 8-10 pm and all the tips will be donated to the Silver Dollar Court! This year we’re raising money for Our Center and ACCEPT Reno! Two AMAZING local charities who provide important information and services to our community!\n\n\nFeaturing the amazing BellaTrix the Alien (Emmett Lee)\, ICPR Harleigh Ashley St. James\, Ali Sin\, and 2023 Closet Ball King Pagan Deep (Lita Galindo)!\n\n\nWe hope to see you there
URL:https://renosdc.org/event/thebunnyranch2023
LOCATION:5 Star Saloon\, 132 West St\, Reno\, NV\, 89501\, United States
CATEGORIES:2022-2023,Coronation 2023
ATTACH;FMTTYPE=image/jpeg:https://renosdc.org/wp-content/uploads/2023/04/2023-04-08-The-Bunny-Ranch.jpg
END:VEVENT
BEGIN:VEVENT
DTSTART;TZID=UTC:20230407T183000
DTEND;TZID=UTC:20230407T193000
DTSTAMP:20260420T132011
CREATED:20230111T193841Z
LAST-MODIFIED:20230111T193841Z
UID:3059-1680892200-1680895800@renosdc.org
SUMMARY:April Board Meeting
DESCRIPTION:The Silver Dollar Court\, Inc.’s Board of Trustees meets the first Thursday of each month\nThis is a monthly board meeting of the Silver Dollar Court\, Inc. \nThis meeting is open to the public. We hope to see you there! \nPlease check our Facebook page for any last-minute changes. \nhttps://www.facebook.com/silverdollarcourt/
URL:https://renosdc.org/event/april-board-meeting
LOCATION:Our Center\, 1755 S Wells Ave\, Reno\, 89502\, United States
CATEGORIES:2022-2023,Board Meeting
END:VEVENT
BEGIN:VEVENT
DTSTART;TZID=America/Los_Angeles:20230325T190000
DTEND;TZID=America/Los_Angeles:20230326T000000
DTSTAMP:20260420T132011
CREATED:20230111T192306Z
LAST-MODIFIED:20230315T201224Z
UID:3040-1679770800-1679788800@renosdc.org
SUMMARY:Closet Ball @ Virginia Street Brewhouse
DESCRIPTION:Friday\, March 25th\, 2023\nCloset Ball @ Virginia Street Brewhouse\nDoors at 7 pm with Contest & Show at 8 pm\n\n$10 Door Cover\n\n* Drag performances during the contest\n*Applications taken until 7:30 pm night of the show\n*Performers added up until 7:30 pm night of the show\n\nApplications or inquiries\, please email protocol@renosdc.org\n\nHosted by Chelsea Towers-Jar & The Silver Dollar Court
URL:https://renosdc.org/event/closetball2023
LOCATION:Virginia Street Brewhouse\, 211 N Virginia St\, Reno\, NV\, 89501\, United States
CATEGORIES:2022-2023,Closet Ball,Coronation 2023
ATTACH;FMTTYPE=image/jpeg:https://renosdc.org/wp-content/uploads/2023/01/2023-03-25-Closet-Ball.jpg
END:VEVENT
BEGIN:VEVENT
DTSTART;TZID=America/Los_Angeles:20230318T200000
DTEND;TZID=America/Los_Angeles:20230319T000000
DTSTAMP:20260420T132011
CREATED:20230315T201140Z
LAST-MODIFIED:20230315T201202Z
UID:3160-1679169600-1679184000@renosdc.org
SUMMARY:Queens Of Country @ 5 Star Saloon
DESCRIPTION:Saturday\, March 18th\, 2023\nRainbow Ball @ 5 Star Saloon\n21+ with a $5 Cover at the door\nDoors at 8pm\nShow at 9:30pm\n\nHosted by Empress Shania Taint
URL:https://renosdc.org/event/queensofcountry2023
LOCATION:5 Star Saloon\, 132 West St\, Reno\, NV\, 89501\, United States
CATEGORIES:2022-2023,Coronation 2023
ATTACH;FMTTYPE=image/jpeg:https://renosdc.org/wp-content/uploads/2023/03/2023-03-18-Queens-Of-Country.jpg
END:VEVENT
BEGIN:VEVENT
DTSTART;TZID=UTC:20230302T183000
DTEND;TZID=UTC:20230302T193000
DTSTAMP:20260420T132011
CREATED:20230111T193720Z
LAST-MODIFIED:20230111T193720Z
UID:3057-1677781800-1677785400@renosdc.org
SUMMARY:March Board Meeting
DESCRIPTION:The Silver Dollar Court\, Inc.’s Board of Trustees meets the first Thursday of each month\nThis is a monthly board meeting of the Silver Dollar Court\, Inc. \nThis meeting is open to the public. We hope to see you there! \nPlease check our Facebook page for any last-minute changes. \nhttps://www.facebook.com/silverdollarcourt/
URL:https://renosdc.org/event/march-board-meeting
LOCATION:Our Center\, 1755 S Wells Ave\, Reno\, 89502\, United States
CATEGORIES:2022-2023,Board Meeting
END:VEVENT
BEGIN:VEVENT
DTSTART;TZID=America/Los_Angeles:20230211T190000
DTEND;TZID=America/Los_Angeles:20230212T000000
DTSTAMP:20260420T132011
CREATED:20230111T190958Z
LAST-MODIFIED:20230120T000836Z
UID:3035-1676142000-1676160000@renosdc.org
SUMMARY:Mr Reno Leather Contest @ Carl's the Saloon
DESCRIPTION:Friday\, February 11th\, 2023\nMr Reno Leather Contest @ Carl’s the Saloon\nDoors at 7 pm with Contest & Show at 8 pm\n\n$10 Door Donation\nHosted by Empress 46 Sharpay Evans\n\nClick here to download rules and application. Please print out and complete application and turn in with application fee at the event before 7:30pm.
URL:https://renosdc.org/event/mrleathercontest2023
LOCATION:Carl’s – The Saloon\, 3310 S Virginia St\, Reno\, NV\, 89502\, United States
CATEGORIES:2022-2023,Coronation 2023
ATTACH;FMTTYPE=image/jpeg:https://renosdc.org/wp-content/uploads/2023/01/2023-02-11-Mr-Reno-leather-Contest.jpg
END:VEVENT
BEGIN:VEVENT
DTSTART;TZID=UTC:20230202T183000
DTEND;TZID=UTC:20230202T193000
DTSTAMP:20260420T132011
CREATED:20230111T185927Z
LAST-MODIFIED:20230111T185944Z
UID:3032-1675362600-1675366200@renosdc.org
SUMMARY:February Board Meeting
DESCRIPTION:The Silver Dollar Court\, Inc.’s Board of Trustees meets the first Thursday of each month\nThis is a monthly board meeting of the Silver Dollar Court\, Inc. \nThis meeting is open to the public. We hope to see you there! \nPlease check our Facebook page for any last-minute changes. \nhttps://www.facebook.com/silverdollarcourt/
URL:https://renosdc.org/event/february-board-meeting-2
LOCATION:Our Center\, 1755 S Wells Ave\, Reno\, 89502\, United States
CATEGORIES:2022-2023,Board Meeting
END:VEVENT
BEGIN:VEVENT
DTSTART;TZID=UTC:20230105T183000
DTEND;TZID=UTC:20230105T193000
DTSTAMP:20260420T132011
CREATED:20221201T174957Z
LAST-MODIFIED:20221201T174957Z
UID:3029-1672943400-1672947000@renosdc.org
SUMMARY:January Board Meeting
DESCRIPTION:The Silver Dollar Court\, Inc.’s Board of Trustees meets the first Thursday of each month\nThis is a monthly board meeting of the Silver Dollar Court\, Inc. \nThis meeting is open to the public. We hope to see you there! \nPlease check our Facebook for any last minute changes. \nhttps://www.facebook.com/silverdollarcourt/
URL:https://renosdc.org/event/december-board-meeting-2-2-2-2
LOCATION:Our Center\, 1755 S Wells Ave\, Reno\, 89502\, United States
CATEGORIES:2022-2023,Board Meeting
END:VEVENT
BEGIN:VEVENT
DTSTART;TZID=UTC:20221201T183000
DTEND;TZID=UTC:20221201T193000
DTSTAMP:20260420T132011
CREATED:20221201T174821Z
LAST-MODIFIED:20221201T174922Z
UID:3026-1669919400-1669923000@renosdc.org
SUMMARY:December Board Meeting
DESCRIPTION:The Silver Dollar Court\, Inc.’s Board of Trustees meets the first Thursday of each month\nThis is a monthly board meeting of the Silver Dollar Court\, Inc. \nThis meeting is open to the public. We hope to see you there! \nPlease check our Facebook for any last minute changes. \nhttps://www.facebook.com/silverdollarcourt/
URL:https://renosdc.org/event/december-board-meeting-2-2-2
LOCATION:Our Center\, 1755 S Wells Ave\, Reno\, 89502\, United States
CATEGORIES:2022-2023,Board Meeting
END:VEVENT
END:VCALENDAR