BEGIN:VCALENDAR
VERSION:2.0
PRODID:-//Silver Dollar Court, Inc. of Reno - ECPv6.15.20//NONSGML v1.0//EN
CALSCALE:GREGORIAN
METHOD:PUBLISH
X-WR-CALNAME:Silver Dollar Court, Inc. of Reno
X-ORIGINAL-URL:https://renosdc.org
X-WR-CALDESC:Events for Silver Dollar Court, Inc. of Reno
REFRESH-INTERVAL;VALUE=DURATION:PT1H
X-Robots-Tag:noindex
X-PUBLISHED-TTL:PT1H
BEGIN:VTIMEZONE
TZID:UTC
BEGIN:STANDARD
TZOFFSETFROM:+0000
TZOFFSETTO:+0000
TZNAME:UTC
DTSTART:20200101T000000
END:STANDARD
END:VTIMEZONE
BEGIN:VEVENT
DTSTART;TZID=UTC:20220416T190000
DTEND;TZID=UTC:20220416T220000
DTSTAMP:20260420T125158
CREATED:20220304T044648Z
LAST-MODIFIED:20220415T032413Z
UID:2671-1650135600-1650146400@renosdc.org
SUMMARY:CLOSET BALL 2022
DESCRIPTION:  \nApril 16th\, 2022\nDoors Open at 7pm\nShow Starts at 8pm\n211 N Virginia Street \nReno\, Nv 89501 \nA Night where a Man becomes a Woman or a Woman becomes a Man In just one hour!\n$10 – Tickets Available at the Door \n  \nFor anyone interested in entering the contest \n$25 Entrance Fee\nMust be 21 years of age or older\nYour Real Name / Drag Name \nWho is Sponsoring you (Transforming you in the Hour) \ninfo@renosdc.org
URL:https://renosdc.org/event/closet-ball-2022
LOCATION:Virginia Street Brewhouse\, 211 N Virginia St\, Reno\, NV\, 89501\, United States
CATEGORIES:2021-2022,Closet Ball 2022
ATTACH;FMTTYPE=image/jpeg:https://renosdc.org/wp-content/uploads/2022/03/Closet-Ball-2022.jpg
END:VEVENT
BEGIN:VEVENT
DTSTART;TZID=UTC:20220407T183000
DTEND;TZID=UTC:20220407T193000
DTSTAMP:20260420T125158
CREATED:20210713T002726Z
LAST-MODIFIED:20210713T003001Z
UID:2526-1649356200-1649359800@renosdc.org
SUMMARY:April Board Meeting
DESCRIPTION:The Silver Dollar Court\, Inc.’s Board of Trustees meets the first Thursday of each month\nThis is a monthly board meeting of the Silver Dollar Court\, Inc. \nThis meeting is open to the public. We hope to see you there! \nPlease check our Facebook for any last minutes changes \nhttps://www.facebook.com/silverdollarcourt/
URL:https://renosdc.org/event/april-board-meeting-2022
LOCATION:Our Center\, 1755 S Wells Ave\, Reno\, 89502\, United States
CATEGORIES:2021-2022,Board Meetings
END:VEVENT
BEGIN:VEVENT
DTSTART;TZID=UTC:20220325T230000
DTEND;TZID=UTC:20220325T233000
DTSTAMP:20260420T125158
CREATED:20220218T220541Z
LAST-MODIFIED:20220308T025544Z
UID:2653-1648249200-1648251000@renosdc.org
SUMMARY:A Journey to Wonderland
DESCRIPTION:Hosted by Empress Sharpay Evans \n$5 Cover  \nShows at 11p & 1a
URL:https://renosdc.org/event/a-journey-to-wonderland
LOCATION:Splash\, 340 Keitzke Lane\, Reno\, NV\, 89502\, United States
CATEGORIES:2021-2022,Events
ATTACH;FMTTYPE=image/jpeg:https://renosdc.org/wp-content/uploads/2022/02/03.25.2022.jpeg
END:VEVENT
BEGIN:VEVENT
DTSTART;TZID=UTC:20220305T170000
DTEND;TZID=UTC:20220305T230000
DTSTAMP:20260420T125158
CREATED:20220209T012525Z
LAST-MODIFIED:20220209T012650Z
UID:2640-1646499600-1646521200@renosdc.org
SUMMARY:Long Beach Imperial Coronation
DESCRIPTION:
URL:https://renosdc.org/event/long-beach-imperial-coronation
CATEGORIES:Events
END:VEVENT
BEGIN:VEVENT
DTSTART;TZID=UTC:20220303T183000
DTEND;TZID=UTC:20220303T193000
DTSTAMP:20260420T125158
CREATED:20210713T002632Z
LAST-MODIFIED:20210713T002941Z
UID:2524-1646332200-1646335800@renosdc.org
SUMMARY:March Board Meeting
DESCRIPTION:The Silver Dollar Court\, Inc.’s Board of Trustees meets the first Thursday of each month\nThis is a monthly board meeting of the Silver Dollar Court\, Inc. \nThis meeting is open to the public. We hope to see you there! \nPlease check our Facebook for any last minutes changes \nhttps://www.facebook.com/silverdollarcourt/
URL:https://renosdc.org/event/march-board-meeting-2022
LOCATION:Our Center\, 1755 S Wells Ave\, Reno\, 89502\, United States
CATEGORIES:2021-2022,Board Meetings
END:VEVENT
BEGIN:VEVENT
DTSTART;TZID=UTC:20220226T170000
DTEND;TZID=UTC:20220226T230000
DTSTAMP:20260420T125158
CREATED:20220209T012336Z
LAST-MODIFIED:20220209T012336Z
UID:2638-1645894800-1645916400@renosdc.org
SUMMARY:San Francisco Imperial Coronation
DESCRIPTION:
URL:https://renosdc.org/event/san-francisco-imperial-coronation
CATEGORIES:Events
END:VEVENT
BEGIN:VEVENT
DTSTART;TZID=UTC:20220225T230000
DTEND;TZID=UTC:20220225T233000
DTSTAMP:20260420T125158
CREATED:20220209T012154Z
LAST-MODIFIED:20220218T220727Z
UID:2636-1645830000-1645831800@renosdc.org
SUMMARY:Once Upon A Fairytale
DESCRIPTION:Hosted by ICPRs Aspen Meadows & Shea Mann \n$5 Cover  \nShows at 11p & 1a
URL:https://renosdc.org/event/fairytale-fantasy
LOCATION:Splash\, 340 Keitzke Lane\, Reno\, NV\, 89502\, United States
CATEGORIES:Events
END:VEVENT
BEGIN:VEVENT
DTSTART;TZID=UTC:20220219T200000
DTEND;TZID=UTC:20220219T230000
DTSTAMP:20260420T125158
CREATED:20220209T012036Z
LAST-MODIFIED:20220218T220644Z
UID:2634-1645300800-1645311600@renosdc.org
SUMMARY:Once Upon A Villian
DESCRIPTION:Hosted by ICP Shania Taint \n$5 Cover \nDoors 8p | Show 9p
URL:https://renosdc.org/event/stoplight-party
LOCATION:5 Star Saloon\, 132 West St\, Reno\, NV\, 89501\, United States
CATEGORIES:Events
END:VEVENT
BEGIN:VEVENT
DTSTART;TZID=UTC:20220203T183000
DTEND;TZID=UTC:20220203T193000
DTSTAMP:20260420T125158
CREATED:20210713T002455Z
LAST-MODIFIED:20210713T002923Z
UID:2522-1643913000-1643916600@renosdc.org
SUMMARY:February Board Meeting
DESCRIPTION:The Silver Dollar Court\, Inc.’s Board of Trustees meets the first Thursday of each month\nThis is a monthly board meeting of the Silver Dollar Court\, Inc. \nThis meeting is open to the public. We hope to see you there! \nPlease check our Facebook for any last minutes changes \nhttps://www.facebook.com/silverdollarcourt/
URL:https://renosdc.org/event/february-board-meeting-2022
LOCATION:Our Center\, 1755 S Wells Ave\, Reno\, 89502\, United States
CATEGORIES:2021-2022,Board Meetings
END:VEVENT
BEGIN:VEVENT
DTSTART;TZID=UTC:20220106T183000
DTEND;TZID=UTC:20220106T193000
DTSTAMP:20260420T125158
CREATED:20210713T002412Z
LAST-MODIFIED:20210713T002906Z
UID:2520-1641493800-1641497400@renosdc.org
SUMMARY:January Board Meeting
DESCRIPTION:The Silver Dollar Court\, Inc.’s Board of Trustees meets the first Thursday of each month\nThis is a monthly board meeting of the Silver Dollar Court\, Inc. \nThis meeting is open to the public. We hope to see you there! \nPlease check our Facebook for any last minutes changes \nhttps://www.facebook.com/silverdollarcourt/
URL:https://renosdc.org/event/january-board-meeting-2022
LOCATION:Our Center\, 1755 S Wells Ave\, Reno\, 89502\, United States
CATEGORIES:2021-2022,Board Meetings
END:VEVENT
BEGIN:VEVENT
DTSTART;TZID=UTC:20211217T100000
DTEND;TZID=UTC:20211218T020000
DTSTAMP:20260420T125158
CREATED:20211202T235110Z
LAST-MODIFIED:20211203T001921Z
UID:2585-1639735200-1639792800@renosdc.org
SUMMARY:Oh Santa!
DESCRIPTION:
URL:https://renosdc.org/event/oh-santa
LOCATION:Splash\, 340 Keitzke Lane\, Reno\, NV\, 89502\, United States
CATEGORIES:2021-2022,Events
END:VEVENT
BEGIN:VEVENT
DTSTART;TZID=UTC:20211204T200000
DTEND;TZID=UTC:20211204T230000
DTSTAMP:20260420T125158
CREATED:20211111T044802Z
LAST-MODIFIED:20211111T044802Z
UID:2580-1638648000-1638658800@renosdc.org
SUMMARY:Mr. Reno Leather Pageant
DESCRIPTION:
URL:https://renosdc.org/event/mr-reno-leather-pageant
LOCATION:Carl’s – The Saloon\, 3310 S Virginia St\, Reno\, NV\, 89502\, United States
CATEGORIES:2021-2022,Events
END:VEVENT
BEGIN:VEVENT
DTSTART;TZID=UTC:20211202T183000
DTEND;TZID=UTC:20211202T193000
DTSTAMP:20260420T125158
CREATED:20210713T001749Z
LAST-MODIFIED:20210713T002321Z
UID:2512-1638469800-1638473400@renosdc.org
SUMMARY:December Board Meeting
DESCRIPTION:The Silver Dollar Court\, Inc.’s Board of Trustees meets the first Thursday of each month\nThis is a monthly board meeting of the Silver Dollar Court\, Inc. \nThis meeting is open to the public. We hope to see you there! \nPlease check our Facebook for any last minutes changes \nhttps://www.facebook.com/silverdollarcourt/
URL:https://renosdc.org/event/december-board-meeting-2021-2
LOCATION:Our Center\, 1755 S Wells Ave\, Reno\, 89502\, United States
CATEGORIES:2021-2022,Board Meetings
END:VEVENT
BEGIN:VEVENT
DTSTART;TZID=UTC:20211128T140000
DTEND;TZID=UTC:20211128T180000
DTSTAMP:20260420T125158
CREATED:20211111T044619Z
LAST-MODIFIED:20211111T044619Z
UID:2577-1638108000-1638122400@renosdc.org
SUMMARY:Novem-Bear-fest Beer Bust
DESCRIPTION:
URL:https://renosdc.org/event/novem-bear-fest-beer-bust
LOCATION:Carl’s – The Saloon\, 3310 S Virginia St\, Reno\, NV\, 89502\, United States
CATEGORIES:2021-2022,Events
END:VEVENT
BEGIN:VEVENT
DTSTART;TZID=UTC:20211126T220000
DTEND;TZID=UTC:20211127T020000
DTSTAMP:20260420T125158
CREATED:20211111T044008Z
LAST-MODIFIED:20211111T045038Z
UID:2570-1637964000-1637978400@renosdc.org
SUMMARY:Sharpay's Angels
DESCRIPTION:
URL:https://renosdc.org/event/sharpays-angels
LOCATION:Splash\, 340 Keitzke Lane\, Reno\, NV\, 89502\, United States
CATEGORIES:2021-2022,Events
END:VEVENT
BEGIN:VEVENT
DTSTART;VALUE=DATE:20211126
DTEND;VALUE=DATE:20211227
DTSTAMP:20260420T125158
CREATED:20211111T044319Z
LAST-MODIFIED:20211111T044456Z
UID:2574-1637884800-1640563199@renosdc.org
SUMMARY:Christmas Gram Sales
DESCRIPTION:
URL:https://renosdc.org/event/christmas-gram-sales
CATEGORIES:2021-2022,Events
END:VEVENT
BEGIN:VEVENT
DTSTART;TZID=UTC:20211120T220000
DTEND;TZID=UTC:20211121T000000
DTSTAMP:20260420T125158
CREATED:20211111T043725Z
LAST-MODIFIED:20211111T044456Z
UID:2567-1637445600-1637452800@renosdc.org
SUMMARY:Rainbow Ball
DESCRIPTION:Shania Taint will be hosting an event for the Silver Dollar Court at 5 Star Saloon on Saturday\, November 20. This will be slightly different from the usual drag shows seen in town.\n\n\nQueens will be given three look categories related to the overall rainbow theme. Rather than doing a lip sync for this segment\, the queens will simply do a runway walk to showcase their look. Whoever gets the most tips (all will be donated to the SDC) for each category will be the “winner” of that category. The last segment will be a drag performance by each queen. Whoever has the most tips donated for the entire Rainbow Ball will “win” the ball and get an automatic invite to the next one.\n\n\nShow will begin promptly at 10 and last approximately 2 hours with various breaks. The door will be donated for the court from 8pm-10pm and all performer tips will also be donated to the court.
URL:https://renosdc.org/event/rainbow-ball
LOCATION:5 Star Saloon\, 132 West St\, Reno\, NV\, 89501\, United States
CATEGORIES:2021-2022,Events
END:VEVENT
BEGIN:VEVENT
DTSTART;TZID=UTC:20211111T190000
DTEND;TZID=UTC:20211111T210000
DTSTAMP:20260420T125158
CREATED:20211107T234427Z
LAST-MODIFIED:20211111T044456Z
UID:2562-1636657200-1636664400@renosdc.org
SUMMARY:Drag Queen Bingo
DESCRIPTION:Be sure to join ICPR sister Shea Mann and Sharpay Evans Thursday at The Emerson Bar for Drag Bingo!!\n\n\nGames start @ 7pm! $15 for all games and proceeds are being donated to the Silver Dollar Court!! Come on out and have some fun
URL:https://renosdc.org/event/drag-queen-bingo-2
LOCATION:The Emerson Bar\, 955 S. Virginia Street\, Reno\, NV\, 89502\, United States
CATEGORIES:2021-2022,Events
END:VEVENT
BEGIN:VEVENT
DTSTART;TZID=UTC:20211104T183000
DTEND;TZID=UTC:20211104T193000
DTSTAMP:20260420T125158
CREATED:20210713T001647Z
LAST-MODIFIED:20210713T002250Z
UID:2509-1636050600-1636054200@renosdc.org
SUMMARY:November Board Meeting
DESCRIPTION:The Silver Dollar Court\, Inc.’s Board of Trustees meets the first Thursday of each month\nThis is a monthly board meeting of the Silver Dollar Court\, Inc. \nThis meeting is open to the public. We hope to see you there! \nPlease check our Facebook for any last minutes changes \nhttps://www.facebook.com/silverdollarcourt/
URL:https://renosdc.org/event/november-board-meeting-2021
LOCATION:Our Center\, 1755 S Wells Ave\, Reno\, 89502\, United States
CATEGORIES:2021-2022,Board Meetings
END:VEVENT
BEGIN:VEVENT
DTSTART;TZID=UTC:20211007T183000
DTEND;TZID=UTC:20211007T193000
DTSTAMP:20260420T125158
CREATED:20210713T001601Z
LAST-MODIFIED:20210713T002228Z
UID:2506-1633631400-1633635000@renosdc.org
SUMMARY:October Board Meeting
DESCRIPTION:The Silver Dollar Court\, Inc.’s Board of Trustees meets the first Thursday of each month\nThis is a monthly board meeting of the Silver Dollar Court\, Inc. \nThis meeting is open to the public. We hope to see you there! \nPlease check our Facebook for any last minutes changes \nhttps://www.facebook.com/silverdollarcourt/
URL:https://renosdc.org/event/october-board-meeting-2021
LOCATION:Our Center\, 1755 S Wells Ave\, Reno\, 89502\, United States
CATEGORIES:2021-2022,Board Meetings
END:VEVENT
BEGIN:VEVENT
DTSTART;TZID=UTC:20210902T183000
DTEND;TZID=UTC:20210902T193000
DTSTAMP:20260420T125158
CREATED:20210713T001437Z
LAST-MODIFIED:20210713T002207Z
UID:2504-1630607400-1630611000@renosdc.org
SUMMARY:September Board Meeting
DESCRIPTION:The Silver Dollar Court\, Inc.’s Board of Trustees meets the first Thursday of each month\nThis is a monthly board meeting of the Silver Dollar Court\, Inc. \nThis meeting is open to the public. We hope to see you there! \nPlease check our Facebook for any last minutes changes \nhttps://www.facebook.com/silverdollarcourt/
URL:https://renosdc.org/event/september-board-meeting-2021
LOCATION:Our Center\, 1755 S Wells Ave\, Reno\, 89502\, United States
CATEGORIES:2021-2022,Board Meetings
END:VEVENT
BEGIN:VEVENT
DTSTART;TZID=UTC:20210828T131100
DTEND;TZID=UTC:20210829T020000
DTSTAMP:20260420T125158
CREATED:20210827T045927Z
LAST-MODIFIED:20211111T044456Z
UID:2553-1630156260-1630202400@renosdc.org
SUMMARY:Fridays are a Drag
DESCRIPTION:
URL:https://renosdc.org/event/fridays-are-a-drag
LOCATION:Splash\, 340 Keitzke Lane\, Reno\, NV\, 89502\, United States
CATEGORIES:2021-2022,Events
END:VEVENT
BEGIN:VEVENT
DTSTART;TZID=UTC:20210805T183000
DTEND;TZID=UTC:20210805T193000
DTSTAMP:20260420T125158
CREATED:20210713T001353Z
LAST-MODIFIED:20210713T002144Z
UID:2502-1628188200-1628191800@renosdc.org
SUMMARY:August Board Meeting
DESCRIPTION:The Silver Dollar Court\, Inc.’s Board of Trustees meets the first Thursday of each month\nThis is a monthly board meeting of the Silver Dollar Court\, Inc. \nThis meeting is open to the public. We hope to see you there! \nPlease check our Facebook for any last minutes changes \nhttps://www.facebook.com/silverdollarcourt/
URL:https://renosdc.org/event/august-board-meeting-2021
LOCATION:Our Center\, 1755 S Wells Ave\, Reno\, 89502\, United States
CATEGORIES:2021-2022,Board Meetings
END:VEVENT
BEGIN:VEVENT
DTSTART;TZID=UTC:20210724T100000
DTEND;TZID=UTC:20210724T113000
DTSTAMP:20260420T125158
CREATED:20210713T004423Z
LAST-MODIFIED:20210713T004450Z
UID:2538-1627120800-1627126200@renosdc.org
SUMMARY:Reno CommUNITY Pride Parade 2021
DESCRIPTION:Details\n\nDate: Saturday\, July 24th\, 2021 \nTime: 10:00 am \nLocation: Fifth and Virginia St to Island Drive \nRoute Length: 1.0 miles \nCost: Free to watch! \nhttps://northernnevadapride.org/parade
URL:https://renosdc.org/event/reno-community-pride-parade-2021
CATEGORIES:2021-2022,Events
END:VEVENT
BEGIN:VEVENT
DTSTART;TZID=UTC:20210717T200000
DTEND;TZID=UTC:20210717T233000
DTSTAMP:20260420T125158
CREATED:20210624T044108Z
LAST-MODIFIED:20210713T010101Z
UID:2448-1626552000-1626564600@renosdc.org
SUMMARY:Investitures
DESCRIPTION:The office of monarch is taken very seriously within the court system and requires a large commitment of the holder’s time and money. \nIn the most frequent case\, several weeks after coronation the new monarch or monarchs present their court titles at a fundraiser called investitures. The titles given to members vary from one chapter to another and are primarily left to the discretion of the reigning monarch or monarchs\, the fons honorum (fountain of honor) of their chapter. \nTypical titles awarded are Imperial Crown Prince\, Grand Duchess\, Marquess\, Viscount\, etc. Other appellations bestowed resemble offices or professions within a medieval or modern noble court rather than titles of nobility\, such as “Court Jester” or “Chancellor of the Realm” and so forth. These titles may be as serious-sounding or as humorously campy as the monarchs wish.[13]
URL:https://renosdc.org/event/investitures
LOCATION:Splash\, 340 Keitzke Lane\, Reno\, NV\, 89502\, United States
CATEGORIES:2021-2022,Events
END:VEVENT
BEGIN:VEVENT
DTSTART;TZID=UTC:20210716T180000
DTEND;TZID=UTC:20210716T200000
DTSTAMP:20260420T125158
CREATED:20210713T003957Z
LAST-MODIFIED:20210713T004950Z
UID:2535-1626458400-1626465600@renosdc.org
SUMMARY:Winnemucca Pride Parade 2021
DESCRIPTION:This is the first annual Winnemucca Pride Parade \n\nWHEN:\nJuly 16\, 2021 @ 6:00 pm – 8:00 pm\n\n\nWHERE:\nMelarkey Street\nRailroad Street to Winnemucca Boulevard\n\n\nCOST:\nFree\n\n\nCONTACT:\n\n\n Winnemucca Pride\n Event website 
URL:https://renosdc.org/event/winnemucca-pride-parade-2021
CATEGORIES:2021-2022,Events
END:VEVENT
END:VCALENDAR